BEGIN:VCALENDAR
VERSION:2.0
PRODID:-//eventon.com NONSGML v1.0//EN
CALSCALE:GREGORIAN
METHOD:PUBLISH
BEGIN:VEVENT
UID:69e99863655ba
DTSTAMP:20260423T035619Z
DTSTART:20260809T090000Z
DTEND:20260809T100000Z
LOCATION:Spinges\,  Stoanamandl
SUMMARY:Bergmesse am Stoanamandl in Spinges
DESCRIPTION:Vorankündigung\nhttps://schuetzen.com/veranstaltung/bergmesse-
 am-stoanamandl-in-spinges-2026/
URL:https://schuetzen.com/veranstaltung/bergmesse-am-stoanamandl-in-spinges-2026/
END:VEVENT
END:VCALENDAR