BEGIN:VCALENDAR
VERSION:2.0
PRODID:-//eventon.com NONSGML v1.0//EN
CALSCALE:GREGORIAN
METHOD:PUBLISH
BEGIN:VEVENT
UID:69e9ddab63b3c
DTSTAMP:20260423T085155Z
DTSTART:20260726
DTEND:20260727
LOCATION:Afers Afers
SUMMARY:Jakobini Kirchtag in Afers
DESCRIPTION:Jakobini Kirchtag in Afers\nhttps://schuetzen.com/veranstaltung
 /jakobini-kirchtag-in-afers-2026/
URL:https://schuetzen.com/veranstaltung/jakobini-kirchtag-in-afers-2026/
END:VEVENT
END:VCALENDAR