BEGIN:VCALENDAR
VERSION:2.0
PRODID:-//eventon.com NONSGML v1.0//EN
CALSCALE:GREGORIAN
METHOD:PUBLISH
BEGIN:VEVENT
UID:69e9deeda6635
DTSTAMP:20260423T085717Z
DTSTART:20260614
DTEND:20260615
LOCATION:Afers Afers
SUMMARY:Frühschoppen und Herz Jesu Feuer in Afers
DESCRIPTION:Frühschoppen und Herz Jesu Feuer in Afers\nhttps://schuetzen.c
 om/veranstaltung/fruehschoppen-in-afers-2026/
URL:https://schuetzen.com/veranstaltung/fruehschoppen-in-afers-2026/
END:VEVENT
END:VCALENDAR