BEGIN:VCALENDAR
VERSION:2.0
PRODID:-//eventon.com NONSGML v1.0//EN
CALSCALE:GREGORIAN
METHOD:PUBLISH
BEGIN:VEVENT
UID:69ea201e79df3
DTSTAMP:20260423T133526Z
DTSTART:20260223T010000Z
DTEND:20260223T040000Z
LOCATION:Meran\,  Andreas Hofer Denkmal
SUMMARY:Andreas-Hofer-Landesfeier in Meran
DESCRIPTION:14.15 Uhr: Aufstellung in der Freiheitsstraße zwischen dem The
 aterplatz und dem Kurhaus; Reihenfolge: Bundesfahne\,  Bundesleitung\,  Ehr
 engäste\,  Verbandsabordnungen\,  Bauernkapelle Völlan\,  Ehrenkompanie M
 eran\,  WTSB\,  BTSK\,  Bezirk Pustertal\,  Bezirk Wipptal\,  Bezirk Brixen
 \,  Bezirk Süd-Tiroler Unterland\,  Bezirk Bozen\,  Bezirk Vinschgau und B
 ezirk Burggrafenamt/Passeier; 14.30 Uhr: Meldung und Frontabschreitung in d
 er Freiheitsstraße; 14.40 Uhr: Abmarsch[..]\nhttps://schuetzen.com/veranst
 altung/andreas-hofer-landesfeier-2026/
URL:https://schuetzen.com/veranstaltung/andreas-hofer-landesfeier-2026/
END:VEVENT
END:VCALENDAR