BEGIN:VCALENDAR
VERSION:2.0
PRODID:-//eventon.com NONSGML v1.0//EN
CALSCALE:GREGORIAN
METHOD:PUBLISH
BEGIN:VEVENT
UID:69e69c98314d4
DTSTAMP:20260420T213728Z
DTSTART:20240127T130000Z
DTEND:20240127T210000Z
LOCATION:Grundschule St. Andrä 39042 Brixen
SUMMARY:Preiswatten der Schützenkompanie St. Andrä
DESCRIPTION:\nhttps://schuetzen.com/veranstaltung/preiswatten-sk-st-andrae-
 2024/
URL:https://schuetzen.com/veranstaltung/preiswatten-sk-st-andrae-2024/
END:VEVENT
END:VCALENDAR