BEGIN:VCALENDAR
VERSION:2.0
PRODID:-//eventon.com NONSGML v1.0//EN
CALSCALE:GREGORIAN
METHOD:PUBLISH
BEGIN:VEVENT
UID:69eca3cda3c86
DTSTAMP:20260425T112149Z
DTSTART:20231006T180000Z
DTEND:20231006T193000Z
LOCATION:Andrian\,  Vereinssaal
SUMMARY:Buchvorstellung "Kann Südtirol Staat?"
DESCRIPTION:𝘌𝘪𝘯 𝘦𝘪𝘨𝘦𝘯𝘦𝘳 𝘚𝘵𝘢𝘢𝘵 
 𝘚𝘶̈𝘥𝘵𝘪𝘳𝘰𝘭 &#8211; 𝘐𝘭𝘭𝘶𝘴𝘪𝘰𝘯
  𝘰𝘥𝘦𝘳 𝘷𝘰𝘳𝘴𝘵𝘦𝘭𝘭𝘣𝘢𝘳𝘦𝘴 𝘚
 𝘻𝘦𝘯𝘢𝘳𝘪𝘰? Diese Frage wird mit einem Buch erstmals ausf
 ührlich beleuchtet. Ein Expertenteam aus allen Bereichen hat sich über Ja
 hre intensiv mit diesem Thema beschäftigt. Neugierig geworden? Dann komm z
 ur 𝗕𝘂𝗰𝗵𝘃𝗼𝗿𝘀𝘁𝗲𝗹𝗹𝘂𝗻𝗴! Freitag\, 
  6. Oktober 2023 20.00 Uhr Pfarrsaal Andrian Der Eintritt ist frei.[..]\nht
 tps://schuetzen.com/veranstaltung/buchvorstellung-kann-suedtirol-staat-andr
 ian/
URL:https://schuetzen.com/veranstaltung/buchvorstellung-kann-suedtirol-staat-andrian/
END:VEVENT
END:VCALENDAR