BEGIN:VCALENDAR
VERSION:2.0
PRODID:-//eventon.com NONSGML v1.0//EN
CALSCALE:GREGORIAN
METHOD:PUBLISH
BEGIN:VEVENT
UID:69ea04bfbc7f0
DTSTAMP:20260423T113839Z
DTSTART:20240519T110000Z
DTEND:20240519T110000Z
LOCATION:
SUMMARY:Pfingstsonntag
DESCRIPTION:Pfingstsonntag\nhttps://schuetzen.com/veranstaltung/pfingstsonn
 tag-2024/
URL:https://schuetzen.com/veranstaltung/pfingstsonntag-2024/
END:VEVENT
END:VCALENDAR