BEGIN:VCALENDAR
VERSION:2.0
PRODID:-//eventon.com NONSGML v1.0//EN
CALSCALE:GREGORIAN
METHOD:PUBLISH
BEGIN:VEVENT
UID:69e977c75cdf2
DTSTAMP:20260423T013711Z
DTSTART:20210420T110000Z
DTEND:20210423T110000Z
LOCATION:
SUMMARY:Lehrfahrt Bezirk Brixen nach Vorderösterreich
DESCRIPTION:Vorankündigung\nhttps://schuetzen.com/veranstaltung/lehrfahrt-
 bezirk-brixen-nach-vorderoesterreich/
URL:https://schuetzen.com/veranstaltung/lehrfahrt-bezirk-brixen-nach-vorderoesterreich/
END:VEVENT
END:VCALENDAR