BEGIN:VCALENDAR
VERSION:2.0
PRODID:-//eventon.com NONSGML v1.0//EN
CALSCALE:GREGORIAN
METHOD:PUBLISH
BEGIN:VEVENT
UID:69e9f988b4a96
DTSTAMP:20260423T105048Z
DTSTART:20220924T210000Z
DTEND:20220924T230000Z
LOCATION:Innsbruck
SUMMARY:Fahnenübergabe an das Schützenbataillon Ulten
DESCRIPTION:\nhttps://schuetzen.com/veranstaltung/fahnenuebergabe-baon-ulte
 n/
URL:https://schuetzen.com/veranstaltung/fahnenuebergabe-baon-ulten/
END:VEVENT
END:VCALENDAR