BEGIN:VCALENDAR
VERSION:2.0
PRODID:-//eventon.com NONSGML v1.0//EN
CALSCALE:GREGORIAN
METHOD:PUBLISH
BEGIN:VEVENT
UID:69eca40fc4680
DTSTAMP:20260425T112255Z
DTSTART:20200905T180000Z
DTEND:20200905T190000Z
LOCATION:Blumau
SUMMARY:Gedenkveranstaltung KZ Campo d'Isarco
DESCRIPTION:\nhttps://schuetzen.com/veranstaltung/gedenkveranstaltung-kz-ca
 mpo-disarco/
URL:https://schuetzen.com/veranstaltung/gedenkveranstaltung-kz-campo-disarco/
END:VEVENT
END:VCALENDAR