BEGIN:VCALENDAR
VERSION:2.0
PRODID:-//eventon.com NONSGML v1.0//EN
CALSCALE:GREGORIAN
METHOD:PUBLISH
BEGIN:VEVENT
UID:69e9a00d1281e
DTSTAMP:20260423T042901Z
DTSTART:20180303T170000Z
DTEND:20180303T235900Z
LOCATION:Andrian\,  Vereinssaal
SUMMARY:Preiswatten der Schützenkompanie Andrian
DESCRIPTION:\nhttps://schuetzen.com/veranstaltung/preiswatten-der-schuetzen
 kompanie-andrian/
URL:https://schuetzen.com/veranstaltung/preiswatten-der-schuetzenkompanie-andrian/
END:VEVENT
END:VCALENDAR