BEGIN:VCALENDAR
VERSION:2.0
PRODID:-//eventon.com NONSGML v1.0//EN
CALSCALE:GREGORIAN
METHOD:PUBLISH
BEGIN:VEVENT
UID:69eb6132c2a55
DTSTAMP:20260424T122522Z
DTSTART:20180526
DTEND:20180527
LOCATION:Mayrhofen
SUMMARY:25. Alpenregionstreffen der Schützen in Mayrhofen
DESCRIPTION:\nhttps://schuetzen.com/veranstaltung/25-alpenregionstreffen-de
 r-schuetzen-in-mayrhofen/
URL:https://schuetzen.com/veranstaltung/25-alpenregionstreffen-der-schuetzen-in-mayrhofen/
END:VEVENT
END:VCALENDAR