BEGIN:VCALENDAR
VERSION:2.0
PRODID:-//eventon.com NONSGML v1.0//EN
CALSCALE:GREGORIAN
METHOD:PUBLISH
BEGIN:VEVENT
UID:69e977c6d9669
DTSTAMP:20260423T013710Z
DTSTART:20201127T080000Z
DTEND:20201127T200000Z
LOCATION:St. Pauls\,  Dom
SUMMARY:Eröffnung Glühweinstandl in Eppan
DESCRIPTION:Eröffnung Glühweinstandl in Eppan\nhttps://schuetzen.com/vera
 nstaltung/eroeffnung-gluehweinstandl-in-eppan/
URL:https://schuetzen.com/veranstaltung/eroeffnung-gluehweinstandl-in-eppan/
END:VEVENT
END:VCALENDAR