BEGIN:VCALENDAR
VERSION:2.0
PRODID:-//eventon.com NONSGML v1.0//EN
CALSCALE:GREGORIAN
METHOD:PUBLISH
BEGIN:VEVENT
UID:69e90cc936d36
DTSTAMP:20260422T180041Z
DTSTART:20170922T170000Z
DTEND:20170924T180000Z
LOCATION:Lana
SUMMARY:Lananer Kürbistage
DESCRIPTION:Lananer Kürbistage\nhttps://schuetzen.com/veranstaltung/lanane
 r-kuerbistage/
URL:https://schuetzen.com/veranstaltung/lananer-kuerbistage/
END:VEVENT
END:VCALENDAR