BEGIN:VCALENDAR
VERSION:2.0
PRODID:-//eventon.com NONSGML v1.0//EN
CALSCALE:GREGORIAN
METHOD:PUBLISH
BEGIN:VEVENT
UID:69ed242ab4e15
DTSTAMP:20260425T202930Z
DTSTART:20190323T080000Z
DTEND:20190326T235900Z
LOCATION:Brixen Brixen
SUMMARY:Lehrfahrt Schützenbezirk Brixen
DESCRIPTION:Vorankündigung\nhttps://schuetzen.com/veranstaltung/lehrfahrt-
 schuetzenbezirk-brixen/
URL:https://schuetzen.com/veranstaltung/lehrfahrt-schuetzenbezirk-brixen/
END:VEVENT
END:VCALENDAR