BEGIN:VCALENDAR
VERSION:2.0
PRODID:-//eventon.com NONSGML v1.0//EN
CALSCALE:GREGORIAN
METHOD:PUBLISH
BEGIN:VEVENT
UID:69eca3ccca437
DTSTAMP:20260425T112148Z
DTSTART:20190112T200000Z
DTEND:20190113T030000Z
LOCATION:Lana\,  Raiffeisenhaus
SUMMARY:Schützenball in Lana
DESCRIPTION:\nhttps://schuetzen.com/veranstaltung/schuetzenball-in-lana-2/
URL:https://schuetzen.com/veranstaltung/schuetzenball-in-lana-2/
END:VEVENT
END:VCALENDAR